BEGIN:VCALENDAR
VERSION:2.0
PRODID:-//PA Grand Chapter - Order of the Eastern Star - ECPv6.15.18//NONSGML v1.0//EN
CALSCALE:GREGORIAN
METHOD:PUBLISH
X-WR-CALNAME:PA Grand Chapter - Order of the Eastern Star
X-ORIGINAL-URL:https://paoes.org
X-WR-CALDESC:Events for PA Grand Chapter - Order of the Eastern Star
REFRESH-INTERVAL;VALUE=DURATION:PT1H
X-Robots-Tag:noindex
X-PUBLISHED-TTL:PT1H
BEGIN:VTIMEZONE
TZID:America/New_York
BEGIN:DAYLIGHT
TZOFFSETFROM:-0500
TZOFFSETTO:-0400
TZNAME:EDT
DTSTART:20250309T070000
END:DAYLIGHT
BEGIN:STANDARD
TZOFFSETFROM:-0400
TZOFFSETTO:-0500
TZNAME:EST
DTSTART:20251102T060000
END:STANDARD
BEGIN:DAYLIGHT
TZOFFSETFROM:-0500
TZOFFSETTO:-0400
TZNAME:EDT
DTSTART:20260308T070000
END:DAYLIGHT
BEGIN:STANDARD
TZOFFSETFROM:-0400
TZOFFSETTO:-0500
TZNAME:EST
DTSTART:20261101T060000
END:STANDARD
BEGIN:DAYLIGHT
TZOFFSETFROM:-0500
TZOFFSETTO:-0400
TZNAME:EDT
DTSTART:20270314T070000
END:DAYLIGHT
BEGIN:STANDARD
TZOFFSETFROM:-0400
TZOFFSETTO:-0500
TZNAME:EST
DTSTART:20271107T060000
END:STANDARD
END:VTIMEZONE
BEGIN:VEVENT
DTSTART;TZID=America/New_York:20260303T180000
DTEND;TZID=America/New_York:20260303T220000
DTSTAMP:20260422T062435
CREATED:20250723T220059Z
LAST-MODIFIED:20250723T220059Z
UID:1378171-1772560800-1772575200@paoes.org
SUMMARY:Bloomsburg Chapter # 279
DESCRIPTION:Stated meeting 7:00pm\nDinner at 6:00pm\nFormal attire\nOriental Masonic Lodge\n2547 State Route 487\nOrangeville\, PA 17859 \nRes Made (by September 15\, 2026) NC\nSherri Magill\n516 N. 2nd Street\nShamokin\, PA 17876\n570-651-0460\nsherridunk@gmail.com
URL:https://paoes.org/event/bloomsburg-chapter-279/
LOCATION:Oriental Masonic Lodge\, 2547 SR 487\, Orangeville\, PA\, 17859
END:VEVENT
END:VCALENDAR